BEGIN:VCALENDAR
VERSION:2.0
CALSCALE:GREGORIAN
PRODID:-//Diputació de Barcelona//DibaCMS//EN
BEGIN:VEVENT
UID:8180
DTSTAMP:20260420T092256
DTSTART:20191013T180000
DTEND:20191013T200000
SUMMARY:Cinema a la Sala d'Exposicions de Vallgorguina
LOCATION:
METHOD:PUBLISH
X-WR-CALNAME:vallgorguina@vallgorguina.cat
X-WR-TIMEZONE:Europe/Madrid
DESCRIPTION:
	Presentació per part de l'Ajuntament d'aquesta nova proposta Cultural
	Pel·lícula: MULA


URI:https://www.vallgorguina.cat/actualitat/agenda/cinema-a-la-sala-dexposicions-de-vallgorguina.html
CLASS:PUBLIC
END:VEVENT
END:VCALENDAR
