BEGIN:VCALENDAR
VERSION:2.0
CALSCALE:GREGORIAN
PRODID:-//Diputació de Barcelona//DibaCMS//EN
BEGIN:VEVENT
UID:8186
DTSTAMP:20260420T070818
DTSTART:20191018T203000
DTEND:20191018T230000
SUMMARY:Arriba la Coral moderna
LOCATION:
METHOD:PUBLISH
X-WR-CALNAME:vallgorguina@vallgorguina.cat
X-WR-TIMEZONE:Europe/Madrid
DESCRIPTION:A la Sala d'exposicións

URI:https://www.vallgorguina.cat/actualitat/agenda/arriba-la-coral-moderna.html
CLASS:PUBLIC
END:VEVENT
END:VCALENDAR
