BEGIN:VCALENDAR
VERSION:2.0
CALSCALE:GREGORIAN
PRODID:-//Diputació de Barcelona//DibaCMS//EN
BEGIN:VEVENT
UID:8188
DTSTAMP:20260420T070951
DTSTART:20191027T173000
DTEND:20191027T210000
SUMMARY:Castanyada Caliu 2019
LOCATION:
METHOD:PUBLISH
X-WR-CALNAME:vallgorguina@vallgorguina.cat
X-WR-TIMEZONE:Europe/Madrid
DESCRIPTION:
URI:https://www.vallgorguina.cat/actualitat/agenda/castanyada-caliu-2019.html
CLASS:PUBLIC
END:VEVENT
END:VCALENDAR
