BEGIN:VCALENDAR
VERSION:2.0
CALSCALE:GREGORIAN
PRODID:-//Diputació de Barcelona//DibaCMS//EN
BEGIN:VEVENT
UID:8196
DTSTAMP:20260420T031337
DTSTART:20191026T170000
DTEND:20191026T190000
SUMMARY:Espai Jove
LOCATION:
METHOD:PUBLISH
X-WR-CALNAME:vallgorguina@vallgorguina.cat
X-WR-TIMEZONE:Europe/Madrid
DESCRIPTION:Taller decoració Halloween

URI:https://www.vallgorguina.cat/actualitat/agenda/8196-espai-jove.html
CLASS:PUBLIC
END:VEVENT
END:VCALENDAR
