BEGIN:VCALENDAR
VERSION:2.0
CALSCALE:GREGORIAN
PRODID:-//Diputació de Barcelona//DibaCMS//EN
BEGIN:VEVENT
UID:8198
DTSTAMP:20260420T070844
DTSTART:20191031T173000
DTEND:20191031T220000
SUMMARY:Halloween
LOCATION:
METHOD:PUBLISH
X-WR-CALNAME:vallgorguina@vallgorguina.cat
X-WR-TIMEZONE:Europe/Madrid
DESCRIPTION:
URI:https://www.vallgorguina.cat/actualitat/agenda/halloween.html
CLASS:PUBLIC
END:VEVENT
END:VCALENDAR
