BEGIN:VCALENDAR
VERSION:2.0
CALSCALE:GREGORIAN
PRODID:-//Diputació de Barcelona//DibaCMS//EN
BEGIN:VEVENT
UID:8200
DTSTAMP:20260420T030741
DTSTART:20191027T183000
DTEND:20191027T210000
SUMMARY:Cinema
LOCATION:
METHOD:PUBLISH
X-WR-CALNAME:vallgorguina@vallgorguina.cat
X-WR-TIMEZONE:Europe/Madrid
DESCRIPTION:Cinema a la sala d'exposicions amb la pel·lícula "Tres anuncios en las Afueras"

URI:https://www.vallgorguina.cat/actualitat/agenda/cinema.html
CLASS:PUBLIC
END:VEVENT
END:VCALENDAR
