BEGIN:VCALENDAR
VERSION:2.0
CALSCALE:GREGORIAN
PRODID:-//Diputació de Barcelona//DibaCMS//EN
BEGIN:VEVENT
UID:8205
DTSTAMP:20260420T025907
DTSTART:20191026T080000
DTEND:20191026T160000
SUMMARY:XI Raid de Vallgorguina
LOCATION:
METHOD:PUBLISH
X-WR-CALNAME:vallgorguina@vallgorguina.cat
X-WR-TIMEZONE:Europe/Madrid
DESCRIPTION:
URI:https://www.vallgorguina.cat/actualitat/agenda/xi-raid-de-vallgorguina.html
CLASS:PUBLIC
END:VEVENT
END:VCALENDAR
