BEGIN:VCALENDAR
VERSION:2.0
CALSCALE:GREGORIAN
PRODID:-//Diputació de Barcelona//DibaCMS//EN
BEGIN:VEVENT
UID:821
DTSTAMP:20260423T133621
DTSTART:20180404T180000
DTEND:20180404T200000
SUMMARY:Plantes medicinals per a potenciar el sistema digestiu (Caliu)
LOCATION:
METHOD:PUBLISH
X-WR-CALNAME:vallgorguina@vallgorguina.cat
X-WR-TIMEZONE:Europe/Madrid
DESCRIPTION:
URI:https://www.vallgorguina.cat/actualitat/agenda/plantes-medicinals-per-a-potenciar-el-sistema-digestiu-caliu.html
CLASS:PUBLIC
END:VEVENT
END:VCALENDAR
