BEGIN:VCALENDAR
VERSION:2.0
CALSCALE:GREGORIAN
PRODID:-//Diputació de Barcelona//DibaCMS//EN
BEGIN:VEVENT
UID:8213
DTSTAMP:20260420T070726
DTSTART:20191116T170000
DTEND:20191116T190000
SUMMARY:Espai Jove
LOCATION:
METHOD:PUBLISH
X-WR-CALNAME:vallgorguina@vallgorguina.cat
X-WR-TIMEZONE:Europe/Madrid
DESCRIPTION:Taller de cuina

URI:https://www.vallgorguina.cat/actualitat/agenda/8213-espai-jove.html
CLASS:PUBLIC
END:VEVENT
END:VCALENDAR
