BEGIN:VCALENDAR
VERSION:2.0
CALSCALE:GREGORIAN
PRODID:-//Diputació de Barcelona//DibaCMS//EN
BEGIN:VEVENT
UID:822
DTSTAMP:20260423T083233
DTSTART:20180411T180000
DTEND:20180411T200000
SUMMARY:Plantes medicinals per a descongestionar el seu sistema respiratori (Caliu)
LOCATION:
METHOD:PUBLISH
X-WR-CALNAME:vallgorguina@vallgorguina.cat
X-WR-TIMEZONE:Europe/Madrid
DESCRIPTION:
URI:https://www.vallgorguina.cat/actualitat/agenda/plantes-medicinals-per-a-descongestionar-el-seu-sistema-respiratori-caliu.html
CLASS:PUBLIC
END:VEVENT
END:VCALENDAR
