BEGIN:VCALENDAR
VERSION:2.0
CALSCALE:GREGORIAN
PRODID:-//Diputació de Barcelona//DibaCMS//EN
BEGIN:VEVENT
UID:8221
DTSTAMP:20260420T070538
DTSTART:20191110T180000
DTEND:20191110T220000
SUMMARY:Pel·lícula "Petra"
LOCATION:
METHOD:PUBLISH
X-WR-CALNAME:vallgorguina@vallgorguina.cat
X-WR-TIMEZONE:Europe/Madrid
DESCRIPTION:Cinema a la sala d'Exposicions de Vallgorguina

URI:https://www.vallgorguina.cat/actualitat/agenda/pellicula-petra.html
CLASS:PUBLIC
END:VEVENT
END:VCALENDAR
