BEGIN:VCALENDAR
VERSION:2.0
CALSCALE:GREGORIAN
PRODID:-//Diputació de Barcelona//DibaCMS//EN
BEGIN:VEVENT
UID:8222
DTSTAMP:20260420T031552
DTSTART:20191116T100000
DTEND:20191116T180000
SUMMARY:Taller per fer un Cistell
LOCATION:
METHOD:PUBLISH
X-WR-CALNAME:vallgorguina@vallgorguina.cat
X-WR-TIMEZONE:Europe/Madrid
DESCRIPTION:Vols aprendre a preparar el teu propi cistell?

Vine a la Fàbrica

URI:https://www.vallgorguina.cat/actualitat/agenda/taller-per-fer-un-cistell.html
CLASS:PUBLIC
END:VEVENT
END:VCALENDAR
