BEGIN:VCALENDAR
VERSION:2.0
CALSCALE:GREGORIAN
PRODID:-//Diputació de Barcelona//DibaCMS//EN
BEGIN:VEVENT
UID:8223
DTSTAMP:20260420T051817
DTSTART:20191201T113000
DTEND:20191201T140000
SUMMARY:Anem a buscar el Tió al Bosc
LOCATION:
METHOD:PUBLISH
X-WR-CALNAME:vallgorguina@vallgorguina.cat
X-WR-TIMEZONE:Europe/Madrid
DESCRIPTION: A La Fàbrica organitzat per l'ajuntament de Vallgorguina i amb la col·laboració de barcelona Discovery(Cal inscripció prèvia.PREU 5€)

URI:https://www.vallgorguina.cat/actualitat/agenda/8223-anem-a-buscar-el-tio-al-bosc.html
CLASS:PUBLIC
END:VEVENT
END:VCALENDAR
