BEGIN:VCALENDAR
VERSION:2.0
CALSCALE:GREGORIAN
PRODID:-//Diputació de Barcelona//DibaCMS//EN
BEGIN:VEVENT
UID:8225
DTSTAMP:20260420T034555
DTSTART:20191116T100000
DTEND:20191116T130000
SUMMARY:Passejades Parc del Montnegre i el Corredor 2019
LOCATION:
METHOD:PUBLISH
X-WR-CALNAME:vallgorguina@vallgorguina.cat
X-WR-TIMEZONE:Europe/Madrid
DESCRIPTION:La Riera de Vallgorguina

Punt de trobada Ajuntament de Vallgorguina

URI:https://www.vallgorguina.cat/actualitat/agenda/8225-passejades-parc-del-montnegre-i-el-corredor-2019.html
CLASS:PUBLIC
END:VEVENT
END:VCALENDAR
