BEGIN:VCALENDAR
VERSION:2.0
CALSCALE:GREGORIAN
PRODID:-//Diputació de Barcelona//DibaCMS//EN
BEGIN:VEVENT
UID:8226
DTSTAMP:20260419T230217
DTSTART:20191123T170000
DTEND:20191123T190000
SUMMARY:Espectacle Infantil i Familiar
LOCATION:
METHOD:PUBLISH
X-WR-CALNAME:vallgorguina@vallgorguina.cat
X-WR-TIMEZONE:Europe/Madrid
DESCRIPTION:"Fefe i Cia- festa a la Plaça"

En aquest espectacle participen petits i grans tots ballant i jugant amb les seves cançons i danses

Lloc: Poliesportiu Municipal

URI:https://www.vallgorguina.cat/actualitat/agenda/espectacle-infantil-i-familiar.html
CLASS:PUBLIC
END:VEVENT
END:VCALENDAR
