BEGIN:VCALENDAR
VERSION:2.0
CALSCALE:GREGORIAN
PRODID:-//Diputació de Barcelona//DibaCMS//EN
BEGIN:VEVENT
UID:8227
DTSTAMP:20260420T031227
DTSTART:20191130T190000
DTEND:20191130T210000
SUMMARY:Música Popular i tradicional
LOCATION:
METHOD:PUBLISH
X-WR-CALNAME:vallgorguina@vallgorguina.cat
X-WR-TIMEZONE:Europe/Madrid
DESCRIPTION:Mioara Vilcu i Maria Calvo

Lloc: Sala D'exposicions

 

URI:https://www.vallgorguina.cat/actualitat/agenda/musica-popular-i-tradicional.html
CLASS:PUBLIC
END:VEVENT
END:VCALENDAR
