BEGIN:VCALENDAR
VERSION:2.0
CALSCALE:GREGORIAN
PRODID:-//Diputació de Barcelona//DibaCMS//EN
BEGIN:VEVENT
UID:8229
DTSTAMP:20260420T010534
DTSTART:20191122T093000
DTEND:20191122T133000
SUMMARY:Taller com ser seleccionat a Infojobs
LOCATION:
METHOD:PUBLISH
X-WR-CALNAME:vallgorguina@vallgorguina.cat
X-WR-TIMEZONE:Europe/Madrid
DESCRIPTION:Taller “Com ser seleccionat a Infojobs! 70% d’efectivitat”, gratuït per a persones a l’atur del Baix Montseny, de 4 hores de durada el divendres 22 de novembre, de 09.30 a 13.30 hores a l’aula d’informàtica de L’Esplai de Santa Maria de Palautordera.

URI:https://www.vallgorguina.cat/actualitat/agenda/taller-com-ser-seleccionat-a-infojobs.html
CLASS:PUBLIC
END:VEVENT
END:VCALENDAR
