BEGIN:VCALENDAR
VERSION:2.0
CALSCALE:GREGORIAN
PRODID:-//Diputació de Barcelona//DibaCMS//EN
BEGIN:VEVENT
UID:823
DTSTAMP:20260423T103235
DTSTART:20180418T180000
DTEND:20180418T200000
SUMMARY:Plantes medicinals per descontracturants musculars i calmants articulars (Caliu)
LOCATION:
METHOD:PUBLISH
X-WR-CALNAME:vallgorguina@vallgorguina.cat
X-WR-TIMEZONE:Europe/Madrid
DESCRIPTION:
URI:https://www.vallgorguina.cat/actualitat/agenda/plantes-medicinals-per-descontracturants-musculars-i-calmants-articulars-caliu.html
CLASS:PUBLIC
END:VEVENT
END:VCALENDAR
