BEGIN:VCALENDAR
VERSION:2.0
CALSCALE:GREGORIAN
PRODID:-//Diputació de Barcelona//DibaCMS//EN
BEGIN:VEVENT
UID:8230
DTSTAMP:20260420T010610
DTSTART:20191119T100000
DTEND:20191121T140000
SUMMARY:Canvi i cerca de feina després dels 45
LOCATION:
METHOD:PUBLISH
X-WR-CALNAME:vallgorguina@vallgorguina.cat
X-WR-TIMEZONE:Europe/Madrid
DESCRIPTION:
	Taller “Dones que ho podem tot: Canvis i cerca de feina després dels 45”, gratuït per a dones majors de 45 anys del Baix Montseny, de 12 hores de durada repartides en 3 sessions els dies 19, 20 i 21 de novembre, de 10.00 a 14.00 hores al Centre Cívic de l’ajuntament de Santa Maria de Palautordera.


URI:https://www.vallgorguina.cat/actualitat/agenda/canvi-i-cerca-de-feina-despres-dels-45.html
CLASS:PUBLIC
END:VEVENT
END:VCALENDAR
