BEGIN:VCALENDAR
VERSION:2.0
CALSCALE:GREGORIAN
PRODID:-//Diputació de Barcelona//DibaCMS//EN
BEGIN:VEVENT
UID:8238
DTSTAMP:20260420T051648
DTSTART:20191117T120000
DTEND:20191117T150000
SUMMARY:Classe oberta de Sardanes i Balls tradicionals
LOCATION:
METHOD:PUBLISH
X-WR-CALNAME:vallgorguina@vallgorguina.cat
X-WR-TIMEZONE:Europe/Madrid
DESCRIPTION:Classe oberta per a petits i Grans de : Sardanes i Balls Tradicionals al Poliesportiu

URI:https://www.vallgorguina.cat/actualitat/agenda/classe-oberta-de-sardanes-i-balls-tradicionals.html
CLASS:PUBLIC
END:VEVENT
END:VCALENDAR
