BEGIN:VCALENDAR
VERSION:2.0
CALSCALE:GREGORIAN
PRODID:-//Diputació de Barcelona//DibaCMS//EN
BEGIN:VEVENT
UID:824
DTSTAMP:20260423T083156
DTSTART:20180421T110000
DTEND:20180422T190000
SUMMARY:Exposició “Delirium Rose"
LOCATION:
METHOD:PUBLISH
X-WR-CALNAME:vallgorguina@vallgorguina.cat
X-WR-TIMEZONE:Europe/Madrid
DESCRIPTION: Matins d'11 a 14 hores i tardes de 17 a 19 hores

Sala d'exposicions

URI:https://www.vallgorguina.cat/actualitat/agenda/exposicio-delirium-rose.html
CLASS:PUBLIC
END:VEVENT
END:VCALENDAR
