BEGIN:VCALENDAR
VERSION:2.0
CALSCALE:GREGORIAN
PRODID:-//Diputació de Barcelona//DibaCMS//EN
BEGIN:VEVENT
UID:8240
DTSTAMP:20260420T014139
DTSTART:20191116T190000
DTEND:20191116T210000
SUMMARY:Futbol Americà a Vallgorguina
LOCATION:
METHOD:PUBLISH
X-WR-CALNAME:vallgorguina@vallgorguina.cat
X-WR-TIMEZONE:Europe/Madrid
DESCRIPTION:Vine a veure el primer partit federat de la història de Futbol Americà a Vallgorguina.T'Esperem al Camp de Futbol

URI:https://www.vallgorguina.cat/actualitat/agenda/8240-futbol-america-a-vallgorguina.html
CLASS:PUBLIC
END:VEVENT
END:VCALENDAR
