BEGIN:VCALENDAR
VERSION:2.0
CALSCALE:GREGORIAN
PRODID:-//Diputació de Barcelona//DibaCMS//EN
BEGIN:VEVENT
UID:8241
DTSTAMP:20260420T070741
DTSTART:20191130T190000
DTEND:20191130T220000
SUMMARY:Concert
LOCATION:
METHOD:PUBLISH
X-WR-CALNAME:vallgorguina@vallgorguina.cat
X-WR-TIMEZONE:Europe/Madrid
DESCRIPTION:A la sala d'Exposicions , Cocert Cançons catalanes i romaneses amb Miora Vîlcu i Maria Calvo

URI:https://www.vallgorguina.cat/actualitat/agenda/concert.html
CLASS:PUBLIC
END:VEVENT
END:VCALENDAR
