BEGIN:VCALENDAR
VERSION:2.0
CALSCALE:GREGORIAN
PRODID:-//Diputació de Barcelona//DibaCMS//EN
BEGIN:VEVENT
UID:8242
DTSTAMP:20260419T230243
DTSTART:20191124T120000
DTEND:20191124T140000
SUMMARY:L'horta Biodinàmica
LOCATION:
METHOD:PUBLISH
X-WR-CALNAME:vallgorguina@vallgorguina.cat
X-WR-TIMEZONE:Europe/Madrid
DESCRIPTION:A la Sala D'exposicions ,Conferència dins el Programa de la Fira del Bosc i la Pagesia , a càrrer de Joan Salicru (Enginyer Agrícola)

URI:https://www.vallgorguina.cat/actualitat/agenda/lhorta-biodinamica.html
CLASS:PUBLIC
END:VEVENT
END:VCALENDAR
