BEGIN:VCALENDAR
VERSION:2.0
CALSCALE:GREGORIAN
PRODID:-//Diputació de Barcelona//DibaCMS//EN
BEGIN:VEVENT
UID:8243
DTSTAMP:20260419T205327
DTSTART:20191124T103000
DTEND:20191124T140000
SUMMARY:Taller de Bioconstrucció
LOCATION:
METHOD:PUBLISH
X-WR-CALNAME:vallgorguina@vallgorguina.cat
X-WR-TIMEZONE:Europe/Madrid
DESCRIPTION: Cúpula Geodèsica amb Canyes el dia 24 de Novembre a les 10.30 h Fira del Bosc i la Pagesia .Inscripcions: dissabte 23 al punt d'informació de la Fira

URI:https://www.vallgorguina.cat/actualitat/agenda/taller-de-bioconstruccio.html
CLASS:PUBLIC
END:VEVENT
END:VCALENDAR
