BEGIN:VCALENDAR
VERSION:2.0
CALSCALE:GREGORIAN
PRODID:-//Diputació de Barcelona//DibaCMS//EN
BEGIN:VEVENT
UID:8244
DTSTAMP:20260420T005857
DTSTART:20191123T120000
DTEND:20191123T150000
SUMMARY:Boscos de Catalunya
LOCATION:
METHOD:PUBLISH
X-WR-CALNAME:vallgorguina@vallgorguina.cat
X-WR-TIMEZONE:Europe/Madrid
DESCRIPTION:A la sala d'exposicions de Vallgorguina, Xerrada del Naturalista Martí Boada,dins del Programa de la Fira del Bosc i la Pagesia

URI:https://www.vallgorguina.cat/actualitat/agenda/boscos-de-catalunya.html
CLASS:PUBLIC
END:VEVENT
END:VCALENDAR
