BEGIN:VCALENDAR
VERSION:2.0
CALSCALE:GREGORIAN
PRODID:-//Diputació de Barcelona//DibaCMS//EN
BEGIN:VEVENT
UID:8245
DTSTAMP:20260420T031627
DTSTART:20191130T100000
DTEND:20191130T210000
SUMMARY:Gimcana Familiar
LOCATION:
METHOD:PUBLISH
X-WR-CALNAME:vallgorguina@vallgorguina.cat
X-WR-TIMEZONE:Europe/Madrid
DESCRIPTION:Jocs, gimcana,scape-Wood a la Fàbrica .

Inscripcions:  aevallgorguina@gmail.com fins el 22 de novembre

URI:https://www.vallgorguina.cat/actualitat/agenda/gimcana-familiar.html
CLASS:PUBLIC
END:VEVENT
END:VCALENDAR
