BEGIN:VCALENDAR
VERSION:2.0
CALSCALE:GREGORIAN
PRODID:-//Diputació de Barcelona//DibaCMS//EN
BEGIN:VEVENT
UID:8248
DTSTAMP:20260420T051918
DTSTART:20191128T163500
DTEND:20191128T183500
SUMMARY:Com acompanyar la sexualitat dels infants
LOCATION:
METHOD:PUBLISH
X-WR-CALNAME:vallgorguina@vallgorguina.cat
X-WR-TIMEZONE:Europe/Madrid
DESCRIPTION:a l'Escola de Vallgorguina

URI:https://www.vallgorguina.cat/actualitat/agenda/com-acompanyar-la-sexualitat-dels-infants.html
CLASS:PUBLIC
END:VEVENT
END:VCALENDAR
