BEGIN:VCALENDAR
VERSION:2.0
CALSCALE:GREGORIAN
PRODID:-//Diputació de Barcelona//DibaCMS//EN
BEGIN:VEVENT
UID:8249
DTSTAMP:20260419T230037
DTSTART:20191124T163000
DTEND:20191124T180000
SUMMARY:Taller Creatiu
LOCATION:
METHOD:PUBLISH
X-WR-CALNAME:vallgorguina@vallgorguina.cat
X-WR-TIMEZONE:Europe/Madrid
DESCRIPTION:Diverteix-te!!!

"Un Camp d'insectes" al Poliesportiu

URI:https://www.vallgorguina.cat/actualitat/agenda/8249-taller-creatiu.html
CLASS:PUBLIC
END:VEVENT
END:VCALENDAR
