BEGIN:VCALENDAR
VERSION:2.0
CALSCALE:GREGORIAN
PRODID:-//Diputació de Barcelona//DibaCMS//EN
BEGIN:VEVENT
UID:825
DTSTAMP:20260423T100103
DTSTART:20180610T090000
DTEND:20180610T130000
SUMMARY:9 aniversari Guardianes MG
LOCATION:
METHOD:PUBLISH
X-WR-CALNAME:vallgorguina@vallgorguina.cat
X-WR-TIMEZONE:Europe/Madrid
DESCRIPTION:
URI:https://www.vallgorguina.cat/actualitat/agenda/9-aniversari-guardianes-mg.html
CLASS:PUBLIC
END:VEVENT
END:VCALENDAR
