BEGIN:VCALENDAR
VERSION:2.0
CALSCALE:GREGORIAN
PRODID:-//Diputació de Barcelona//DibaCMS//EN
BEGIN:VEVENT
UID:8251
DTSTAMP:20260420T005835
DTSTART:20191217T190000
DTEND:20191217T210000
SUMMARY:T'acostem a  la cultura
LOCATION:
METHOD:PUBLISH
X-WR-CALNAME:vallgorguina@vallgorguina.cat
X-WR-TIMEZONE:Europe/Madrid
DESCRIPTION:Vols conèixer de prop l'escriptora catalana Montserrat Roig? Vina al grup de lectura a la Biblioteca K1

URI:https://www.vallgorguina.cat/actualitat/agenda/tacostem-a-la-cultura.html
CLASS:PUBLIC
END:VEVENT
END:VCALENDAR
