BEGIN:VCALENDAR
VERSION:2.0
CALSCALE:GREGORIAN
PRODID:-//Diputació de Barcelona//DibaCMS//EN
BEGIN:VEVENT
UID:8254
DTSTAMP:20260420T005511
DTSTART:20191124T180000
DTEND:20191124T210000
SUMMARY:Cinema 
LOCATION:
METHOD:PUBLISH
X-WR-CALNAME:vallgorguina@vallgorguina.cat
X-WR-TIMEZONE:Europe/Madrid
DESCRIPTION:A la Sala d'Exposicions de Vallgorguina "La Favorita"

URI:https://www.vallgorguina.cat/actualitat/agenda/cinema-.html
CLASS:PUBLIC
END:VEVENT
END:VCALENDAR
