BEGIN:VCALENDAR
VERSION:2.0
CALSCALE:GREGORIAN
PRODID:-//Diputació de Barcelona//DibaCMS//EN
BEGIN:VEVENT
UID:826
DTSTAMP:20260423T113555
DTSTART:20180325T180000
DTEND:20180401T133000
SUMMARY:Exposició fotogràfica ACV
LOCATION:
METHOD:PUBLISH
X-WR-CALNAME:vallgorguina@vallgorguina.cat
X-WR-TIMEZONE:Europe/Madrid
DESCRIPTION:
URI:https://www.vallgorguina.cat/actualitat/agenda/826-exposicio-fotografica-acv.html
CLASS:PUBLIC
END:VEVENT
END:VCALENDAR
