BEGIN:VCALENDAR
VERSION:2.0
CALSCALE:GREGORIAN
PRODID:-//Diputació de Barcelona//DibaCMS//EN
BEGIN:VEVENT
UID:8263
DTSTAMP:20260419T211234
DTSTART:20191220T173000
DTEND:20191220T210000
SUMMARY:Festival de Nadal Patins de Vallgorguina
LOCATION:
METHOD:PUBLISH
X-WR-CALNAME:vallgorguina@vallgorguina.cat
X-WR-TIMEZONE:Europe/Madrid
DESCRIPTION:Patins Vallgorguina celebrarà el Festival familiar de Nadal el dia 20 de desembre a les 17'30 h.

URI:https://www.vallgorguina.cat/actualitat/agenda/festival-de-nadal-patins-de-vallgorguina.html
CLASS:PUBLIC
END:VEVENT
END:VCALENDAR
