BEGIN:VCALENDAR
VERSION:2.0
CALSCALE:GREGORIAN
PRODID:-//Diputació de Barcelona//DibaCMS//EN
BEGIN:VEVENT
UID:8264
DTSTAMP:20260419T210217
DTSTART:20191215T110000
DTEND:20191215T150000
SUMMARY:Activitats Nadal Associació de Veïns de Canadà Parc
LOCATION:
METHOD:PUBLISH
X-WR-CALNAME:vallgorguina@vallgorguina.cat
X-WR-TIMEZONE:Europe/Madrid
DESCRIPTION:Dia 15 de desembre

a les 11h ANAR A BUSCAR TIONS AL BOSC i FIRA de REGALS de NADAL (trucar al 661 726 660 per coordinar la recollida prèvia de tions de cada família)

Dia 22 de desembre

a les 12 sorteig de la PANERA DE NADAL a "la caseta" de l'Associació.

 

 

URI:https://www.vallgorguina.cat/actualitat/agenda/activitats-nadal-associacio-de-veins-de-canada-parc.html
CLASS:PUBLIC
END:VEVENT
END:VCALENDAR
