BEGIN:VCALENDAR
VERSION:2.0
CALSCALE:GREGORIAN
PRODID:-//Diputació de Barcelona//DibaCMS//EN
BEGIN:VEVENT
UID:8265
DTSTAMP:20260419T231343
DTSTART:20191222T120000
DTEND:20191222T150000
SUMMARY:Activitats Nadal Associació de Veïns de Canadà Parc
LOCATION:
METHOD:PUBLISH
X-WR-CALNAME:vallgorguina@vallgorguina.cat
X-WR-TIMEZONE:Europe/Madrid
DESCRIPTION:Dia 22 de desembre

a les 12 sorteig de la PANERA DE NADAL a "la caseta" de l'Associació.

URI:https://www.vallgorguina.cat/actualitat/agenda/8265-activitats-nadal-associacio-de-veins-de-canada-parc.html
CLASS:PUBLIC
END:VEVENT
END:VCALENDAR
