BEGIN:VCALENDAR
VERSION:2.0
CALSCALE:GREGORIAN
PRODID:-//Diputació de Barcelona//DibaCMS//EN
BEGIN:VEVENT
UID:8267
DTSTAMP:20260419T225515
DTSTART:20191222T090000
DTEND:20191222T140000
SUMMARY:Mercat de Nadal
LOCATION:
METHOD:PUBLISH
X-WR-CALNAME:vallgorguina@vallgorguina.cat
X-WR-TIMEZONE:Europe/Madrid
DESCRIPTION:Mercat de Nadal a la plaça Mossèn Narcís Saguer,

Si vols participar truca al 639 66 95 96.

URI:https://www.vallgorguina.cat/actualitat/agenda/8267-mercat-de-nadal.html
CLASS:PUBLIC
END:VEVENT
END:VCALENDAR
