BEGIN:VCALENDAR
VERSION:2.0
CALSCALE:GREGORIAN
PRODID:-//Diputació de Barcelona//DibaCMS//EN
BEGIN:VEVENT
UID:8269
DTSTAMP:20260419T151934
DTSTART:20200104T170000
DTEND:20200104T190000
SUMMARY:Taller de Fanalets 
LOCATION:
METHOD:PUBLISH
X-WR-CALNAME:vallgorguina@vallgorguina.cat
X-WR-TIMEZONE:Europe/Madrid
DESCRIPTION:Al Caliu organitza Fent Pinya

URI:https://www.vallgorguina.cat/actualitat/agenda/8269-taller-de-fanalets-.html
CLASS:PUBLIC
END:VEVENT
END:VCALENDAR
