BEGIN:VCALENDAR
VERSION:2.0
CALSCALE:GREGORIAN
PRODID:-//Diputació de Barcelona//DibaCMS//EN
BEGIN:VEVENT
UID:8273
DTSTAMP:20260419T230350
DTSTART:20191222T120000
DTEND:20191222T140000
SUMMARY:Curset de Sardanes
LOCATION:
METHOD:PUBLISH
X-WR-CALNAME:vallgorguina@vallgorguina.cat
X-WR-TIMEZONE:Europe/Madrid
DESCRIPTION:a la Plaça Mossèn Narcís Saguer.

URI:https://www.vallgorguina.cat/actualitat/agenda/curset-de-sardanes.html
CLASS:PUBLIC
END:VEVENT
END:VCALENDAR
