BEGIN:VCALENDAR
VERSION:2.0
CALSCALE:GREGORIAN
PRODID:-//Diputació de Barcelona//DibaCMS//EN
BEGIN:VEVENT
UID:8274
DTSTAMP:20260419T225833
DTSTART:20191208T180000
DTEND:20191208T200000
SUMMARY:Cinema 
LOCATION:
METHOD:PUBLISH
X-WR-CALNAME:vallgorguina@vallgorguina.cat
X-WR-TIMEZONE:Europe/Madrid
DESCRIPTION:Sala d’exposicions.

UN ASUNTO DE FAMILIA

URI:https://www.vallgorguina.cat/actualitat/agenda/8274-cinema-.html
CLASS:PUBLIC
END:VEVENT
END:VCALENDAR
