BEGIN:VCALENDAR
VERSION:2.0
CALSCALE:GREGORIAN
PRODID:-//Diputació de Barcelona//DibaCMS//EN
BEGIN:VEVENT
UID:8276
DTSTAMP:20260419T205017
DTSTART:20191127T000000
DTEND:20191127T000000
SUMMARY:Festa de cap d'any
LOCATION:
METHOD:PUBLISH
X-WR-CALNAME:vallgorguina@vallgorguina.cat
X-WR-TIMEZONE:Europe/Madrid
DESCRIPTION:Fetillera i Fent Pinya muntem festa de cap d'any a la fàbrica.  Hi haurà sopar de "carmanyola" (cadascú es porta el seu sopar) a partir de les 21h. I a partir de les 00.30h hi haurà música amb : Albert Caipirinha,  dj JM Bosch i dj Marc Dellà.  Hi haurà servei de barra també.  No cal inscripció prèvia, hi haurà taules i cadires suficients. 

URI:https://www.vallgorguina.cat/actualitat/agenda/festa-de-cap-dany.html
CLASS:PUBLIC
END:VEVENT
END:VCALENDAR
