BEGIN:VCALENDAR
VERSION:2.0
CALSCALE:GREGORIAN
PRODID:-//Diputació de Barcelona//DibaCMS//EN
BEGIN:VEVENT
UID:8277
DTSTAMP:20260419T190855
DTSTART:20191214T090000
DTEND:20191214T150000
SUMMARY:Petanca
LOCATION:
METHOD:PUBLISH
X-WR-CALNAME:vallgorguina@vallgorguina.cat
X-WR-TIMEZONE:Europe/Madrid
DESCRIPTION:Organitza El Caliu. Inscripció prèvia

URI:https://www.vallgorguina.cat/actualitat/agenda/8277-petanca.html
CLASS:PUBLIC
END:VEVENT
END:VCALENDAR
