BEGIN:VCALENDAR
VERSION:2.0
CALSCALE:GREGORIAN
PRODID:-//Diputació de Barcelona//DibaCMS//EN
BEGIN:VEVENT
UID:8278
DTSTAMP:20260420T005759
DTSTART:20191214T163000
DTEND:20191214T180000
SUMMARY:Festival de música
LOCATION:
METHOD:PUBLISH
X-WR-CALNAME:vallgorguina@vallgorguina.cat
X-WR-TIMEZONE:Europe/Madrid
DESCRIPTION:amb la participació dels alumnes que assisteixen a les classes organitzades pel Caliu

Sala D'Exposicions

URI:https://www.vallgorguina.cat/actualitat/agenda/festival-de-musica.html
CLASS:PUBLIC
END:VEVENT
END:VCALENDAR
