BEGIN:VCALENDAR
VERSION:2.0
CALSCALE:GREGORIAN
PRODID:-//Diputació de Barcelona//DibaCMS//EN
BEGIN:VEVENT
UID:8279
DTSTAMP:20260419T205227
DTSTART:20191214T180000
DTEND:20191214T200000
SUMMARY:La Quina
LOCATION:
METHOD:PUBLISH
X-WR-CALNAME:vallgorguina@vallgorguina.cat
X-WR-TIMEZONE:Europe/Madrid
DESCRIPTION:organitza la Fetillera

Sala d'exposicions

URI:https://www.vallgorguina.cat/actualitat/agenda/la-quina.html
CLASS:PUBLIC
END:VEVENT
END:VCALENDAR
