BEGIN:VCALENDAR
VERSION:2.0
CALSCALE:GREGORIAN
PRODID:-//Diputació de Barcelona//DibaCMS//EN
BEGIN:VEVENT
UID:828
DTSTAMP:20260423T080604
DTSTART:20180329T160000
DTEND:20180329T190000
SUMMARY:Taller de mini-mones El Caliu
LOCATION:
METHOD:PUBLISH
X-WR-CALNAME:vallgorguina@vallgorguina.cat
X-WR-TIMEZONE:Europe/Madrid
DESCRIPTION:
URI:https://www.vallgorguina.cat/actualitat/agenda/taller-de-mini-mones-el-caliu.html
CLASS:PUBLIC
END:VEVENT
END:VCALENDAR
