BEGIN:VCALENDAR
VERSION:2.0
CALSCALE:GREGORIAN
PRODID:-//Diputació de Barcelona//DibaCMS//EN
BEGIN:VEVENT
UID:8280
DTSTAMP:20260419T204908
DTSTART:20191215T100000
DTEND:20191215T140000
SUMMARY:Torneig de Futbol 7
LOCATION:
METHOD:PUBLISH
X-WR-CALNAME:vallgorguina@vallgorguina.cat
X-WR-TIMEZONE:Europe/Madrid
DESCRIPTION:Torneig de Futbol més esmorzar solidari, amb paradetes i sorteig de la panera Quan Pesa?

URI:https://www.vallgorguina.cat/actualitat/agenda/torneig-de-futbol-7.html
CLASS:PUBLIC
END:VEVENT
END:VCALENDAR
