BEGIN:VCALENDAR
VERSION:2.0
CALSCALE:GREGORIAN
PRODID:-//Diputació de Barcelona//DibaCMS//EN
BEGIN:VEVENT
UID:8282
DTSTAMP:20260419T151947
DTSTART:20200126T180000
DTEND:20200126T210000
SUMMARY:Cinema a la Sala d' Exposicions de Vallgorguina
LOCATION:
METHOD:PUBLISH
X-WR-CALNAME:vallgorguina@vallgorguina.cat
X-WR-TIMEZONE:Europe/Madrid
DESCRIPTION:Pel·lícula DOLOR Y GLORIA

URI:https://www.vallgorguina.cat/actualitat/agenda/8282-cinema-a-la-sala-d-exposicions-de-vallgorguina.html
CLASS:PUBLIC
END:VEVENT
END:VCALENDAR
