BEGIN:VCALENDAR
VERSION:2.0
CALSCALE:GREGORIAN
PRODID:-//Diputació de Barcelona//DibaCMS//EN
BEGIN:VEVENT
UID:8285
DTSTAMP:20260419T230426
DTSTART:20200308T174500
DTEND:20200308T210000
SUMMARY:Dia Internacional de la Dona
LOCATION:
METHOD:PUBLISH
X-WR-CALNAME:vallgorguina@vallgorguina.cat
X-WR-TIMEZONE:Europe/Madrid
DESCRIPTION:Lectura del manifest a les 17.45h

A continuació Pel·licula "Las Horas"

URI:https://www.vallgorguina.cat/actualitat/agenda/8285-dia-internacional-de-la-dona.html
CLASS:PUBLIC
END:VEVENT
END:VCALENDAR
