BEGIN:VCALENDAR
VERSION:2.0
CALSCALE:GREGORIAN
PRODID:-//Diputació de Barcelona//DibaCMS//EN
BEGIN:VEVENT
UID:8286
DTSTAMP:20260419T171907
DTSTART:20200322T180000
DTEND:20200322T210000
SUMMARY:Cinema a la Sala d' Exposicions de Vallgorguina (Anul·lat)
LOCATION:
METHOD:PUBLISH
X-WR-CALNAME:vallgorguina@vallgorguina.cat
X-WR-TIMEZONE:Europe/Madrid
DESCRIPTION:
URI:https://www.vallgorguina.cat/actualitat/agenda/cinema-a-la-sala-d-exposicions-de-vallgorguina-anullat.html
CLASS:PUBLIC
END:VEVENT
END:VCALENDAR
