BEGIN:VCALENDAR
VERSION:2.0
CALSCALE:GREGORIAN
PRODID:-//Diputació de Barcelona//DibaCMS//EN
BEGIN:VEVENT
UID:8287
DTSTAMP:20260419T204959
DTSTART:20191214T100000
DTEND:20191215T150000
SUMMARY:Activitats per la Marató de TV3
LOCATION:
METHOD:PUBLISH
X-WR-CALNAME:vallgorguina@vallgorguina.cat
X-WR-TIMEZONE:Europe/Madrid
DESCRIPTION:Diumenge 1 de desembre


	Anem a Buscar el Tió


Dissabte 14 de desembre


	Petanca
	Festival de Música
	La Quina


Diumenge 15  de desembre


	Partits de Futbol 7
	Cinema Solidari


Divendres 20 de desembre


	Panera Solidària (Ampa Escola Vallgorguina)
	Panera Solidària (Ampa Escola Bressol)


URI:https://www.vallgorguina.cat/actualitat/agenda/activitats-per-la-marato-de-tv3.html
CLASS:PUBLIC
END:VEVENT
END:VCALENDAR
